BEGIN:VCALENDAR
VERSION:2.0
PRODID:-//ACTRA Toronto - ECPv6.15.17//NONSGML v1.0//EN
CALSCALE:GREGORIAN
METHOD:PUBLISH
X-WR-CALNAME:ACTRA Toronto
X-ORIGINAL-URL:http://actratoronto.com
X-WR-CALDESC:Events for ACTRA Toronto
REFRESH-INTERVAL;VALUE=DURATION:PT1H
X-Robots-Tag:noindex
X-PUBLISHED-TTL:PT1H
BEGIN:VTIMEZONE
TZID:America/Toronto
BEGIN:DAYLIGHT
TZOFFSETFROM:-0500
TZOFFSETTO:-0400
TZNAME:EDT
DTSTART:20240310T070000
END:DAYLIGHT
BEGIN:STANDARD
TZOFFSETFROM:-0400
TZOFFSETTO:-0500
TZNAME:EST
DTSTART:20241103T060000
END:STANDARD
BEGIN:DAYLIGHT
TZOFFSETFROM:-0500
TZOFFSETTO:-0400
TZNAME:EDT
DTSTART:20250309T070000
END:DAYLIGHT
BEGIN:STANDARD
TZOFFSETFROM:-0400
TZOFFSETTO:-0500
TZNAME:EST
DTSTART:20251102T060000
END:STANDARD
BEGIN:DAYLIGHT
TZOFFSETFROM:-0500
TZOFFSETTO:-0400
TZNAME:EDT
DTSTART:20260308T070000
END:DAYLIGHT
BEGIN:STANDARD
TZOFFSETFROM:-0400
TZOFFSETTO:-0500
TZNAME:EST
DTSTART:20261101T060000
END:STANDARD
BEGIN:DAYLIGHT
TZOFFSETFROM:-0500
TZOFFSETTO:-0400
TZNAME:EDT
DTSTART:20270314T070000
END:DAYLIGHT
BEGIN:STANDARD
TZOFFSETFROM:-0400
TZOFFSETTO:-0500
TZNAME:EST
DTSTART:20271107T060000
END:STANDARD
END:VTIMEZONE
BEGIN:VEVENT
DTSTART;TZID=America/Toronto:20260410T160000
DTEND;TZID=America/Toronto:20260410T180000
DTSTAMP:20260420T152427
CREATED:20260324T173005Z
LAST-MODIFIED:20260325T145421Z
UID:10000121-1775836800-1775844000@actratoronto.com
SUMMARY:Minors Committee Meeting (April 10)
DESCRIPTION:The ACTRA Toronto Minors Committee is holding their next meeting on Friday April 10 2026 from 4pm – 6pm on Zoom. \nWe are excited to discuss what 2026 holds for the Committee\, the results of the survey and next steps. Don’t forget follow us on Instagram @actratorontominors \nThe ACTRA Toronto Minors Committee is member-driven open to our younger performers\, their parents and guardians. It’s a space to connect\, share experiences and collaborate on how as a community we can better support young talent in our industry. Please share this invitation with other ACTRA members who may not be on our mailing list. The more voices the better! Even if you can only attend part of the meeting\, we’d still love to have you there! \nTo learn more about the Committee\, please visit our Committee Page. \nClick here to register for the event. We can’t wait to see you there!
URL:http://actratoronto.com/event/minors-committee-meeting-april-10/
LOCATION:Zoom (Virtual)
CATEGORIES:Committee Meeting
ORGANIZER;CN="ACTRA Toronto Minors Committee":MAILTO:minors@actratoronto.com
END:VEVENT
BEGIN:VEVENT
DTSTART;TZID=America/Toronto:20260409T130000
DTEND;TZID=America/Toronto:20260409T150000
DTSTAMP:20260420T152427
CREATED:20260324T165654Z
LAST-MODIFIED:20260401T151718Z
UID:10000120-1775739600-1775746800@actratoronto.com
SUMMARY:AABP April Meetup
DESCRIPTION:Join the AABP Caucus for its next meeting and get together in person or on Zoom. \nThe meeting will include a Q&A on upgrades with special guest Grace Hawkins\, Manager of Contracts for Film\, Television\, and Digital Media at ACTRA Toronto. \nZoom Registration link: https://us06web.zoom.us/meeting/register/-SrpK2qLSCqdme5MyTva4A \nScroll down to register for in-person attendance. \n 
URL:http://actratoronto.com/event/aabp-april-meetup/
LOCATION:ACTRA Toronto Main Office\, 625 Church Street\, Toronto\, Ontario\, M4Y2G1\, Canada
CATEGORIES:Committee Meeting
ORGANIZER;CN="AABP Caucus":MAILTO:aabp@actratoronto.com
END:VEVENT
BEGIN:VEVENT
DTSTART;TZID=America/Toronto:20260325T150000
DTEND;TZID=America/Toronto:20260325T170000
DTSTAMP:20260420T152427
CREATED:20260312T155631Z
LAST-MODIFIED:20260325T191141Z
UID:10000118-1774450800-1774458000@actratoronto.com
SUMMARY:Diversity & Inclusion Committee Meeting (March 25)
DESCRIPTION:The Diversity & Inclusion Committee is excited for its next meeting on March 25\, 2026! We are looking forward to seeing all your beautiful faces! \n📅 Date: Wednesday\, March 25\, 2026\n🕒 Time: 3:00–5:00 PM\n📍 Location: Virtual (Zoom) \n  \nhttps://us06web.zoom.us/j/85217229702?pwd=T5Rvx5sbP1VkVSVRMLi2HH5eSgBFVs.1 \nMeeting ID: 852 1722 9702 \nPasscode: 260071
URL:http://actratoronto.com/event/diversity-inclusion-committee-meeting-march-25/
LOCATION:Zoom (Virtual)
CATEGORIES:Committee Meeting
END:VEVENT
BEGIN:VEVENT
DTSTART;TZID=America/Toronto:20260316T153000
DTEND;TZID=America/Toronto:20260316T173000
DTSTAMP:20260420T152427
CREATED:20260311T132318Z
LAST-MODIFIED:20260311T132318Z
UID:10000117-1773675000-1773682200@actratoronto.com
SUMMARY:Accent Discrimination Sub-Committee Meeting (March 16)
DESCRIPTION:Mladen Obradovic and Yvette McKoy\, Chairs of the ACTRA Toronto Accent Discrimination Sub-Committee\, invite you to join the next Zoom meeting on Monday\, March 16\, 2026\, at 3:30 p.m. ET. \nThe Sub-Committee is pleased to welcome award-winning director Laurie Lynd as a special guest. Laurie will answer questions and share insights on how we can help level the playing field for everyone while bringing greater awareness to the challenges faced by some members. \nPlease click the button below to register to attend. Registration closes at 10 a.m. ET on Monday\, March 16\, 2026.
URL:http://actratoronto.com/event/accent-discrimination-sub-committee-meeting-march-16/
LOCATION:Zoom (Virtual)
CATEGORIES:Committee Meeting
END:VEVENT
BEGIN:VEVENT
DTSTART;TZID=America/Toronto:20260316T140000
DTEND;TZID=America/Toronto:20260316T160000
DTSTAMP:20260420T152427
CREATED:20260309T195946Z
LAST-MODIFIED:20260310T133906Z
UID:10000116-1773669600-1773676800@actratoronto.com
SUMMARY:YEAA Committee Meeting (March 16)
DESCRIPTION:Join Us: YEAA Committee Meeting – March 16 \nThe YEAA Committee invites ACTRA Toronto members to join us for our next general meeting on Monday\, March 16\, 2026\, from 2 to 4 p.m. at the ACTRA Toronto office (625 Church Street\, 2nd floor\, Toronto). \nThis meeting will include a discussion and recap of the YEAA Shorts: Exhibition Series\, as well as an open conversation about future initiatives and opportunities for emerging performers. \nThe YEAA Committee works to create programming\, resources\, and community for early-career ACTRA members. Your input helps shape the work we do\, and we welcome anyone interested in getting involved or sharing ideas. \nMeeting Details \n📅 Monday\, March 16\, 2026 \n🕑 2 to 4 p.m. \n📍 ACTRA Toronto (625 Church Street\, 2nd floor\, Toronto) \nWhether you attended the Exhibition Series\, want to learn more about the committee\, or are interested in helping shape upcoming projects\, we’d love to see you there. \nSecure your spot by clicking the “Going” button below before 4 p.m. on Friday\, March 13\, 2026. \nWe hope you can join us!
URL:http://actratoronto.com/event/yeaa-committee-meeting-march-16/
LOCATION:ACTRA Toronto Main Office\, 625 Church Street\, Toronto\, Ontario\, M4Y2G1\, Canada
CATEGORIES:Committee Meeting
ORGANIZER;CN="YEAA":MAILTO:yeaa@actratoronto.com
END:VEVENT
BEGIN:VEVENT
DTSTART;TZID=America/Toronto:20260224T123000
DTEND;TZID=America/Toronto:20260224T143000
DTSTAMP:20260420T152427
CREATED:20260219T202247Z
LAST-MODIFIED:20260219T202247Z
UID:10000114-1771936200-1771943400@actratoronto.com
SUMMARY:Diversity & Inclusion Committee Meeting (February 24)
DESCRIPTION:The Diversity & Inclusion Committee is excited for its next meeting on February 24\, 2026! Registration is required. Registraton closes at 5 p.m. on Monday\, February 23\, 2026. \n📅 Date: Tuesday\, February 24\, 2026\n🕒 Time: 12:30 p.m. ET\n📍 Location: Zoom (the Zoom link will be sent to registrants ahead of the meeting)
URL:http://actratoronto.com/event/diversity-inclusion-committee-meeting-february-24/
LOCATION:Zoom (Virtual)
CATEGORIES:Committee Meeting
END:VEVENT
BEGIN:VEVENT
DTSTART;TZID=America/Toronto:20260119T140000
DTEND;TZID=America/Toronto:20260119T160000
DTSTAMP:20260420T152427
CREATED:20260112T204318Z
LAST-MODIFIED:20260112T204618Z
UID:10000110-1768831200-1768838400@actratoronto.com
SUMMARY:YEAA Meeting - January 19 2026
DESCRIPTION:We’re excited to invite you to YEAA’s first meeting of 2026 as we build on the incredible momentum we created together last year. \nThis meeting is about YOU. It’s a chance to connect\, share your ideas\, and help shape what’s next as we continue to offer: \n\nIndustry insight and networking opportunities\nEducation and creative outlets\nMeaningful community-building beyond social events\n\nRegister below
URL:http://actratoronto.com/event/yeaa-meeting-january-19-2026/
LOCATION:ACTRA Toronto Main Office\, 625 Church Street\, Toronto\, Ontario\, M4Y2G1\, Canada
CATEGORIES:Committee Meeting
ORGANIZER;CN="YEAA":MAILTO:yeaa@actratoronto.com
END:VEVENT
BEGIN:VEVENT
DTSTART;TZID=America/Toronto:20251216T140000
DTEND;TZID=America/Toronto:20251216T153000
DTSTAMP:20260420T152427
CREATED:20250618T180854Z
LAST-MODIFIED:20250924T142425Z
UID:10000020-1765893600-1765899000@actratoronto.com
SUMMARY:outACTRAto Meeting
DESCRIPTION:outACTRAto meetings are on the third Tuesday of every month. We hope to see you there!
URL:http://actratoronto.com/event/outactrato-meeting-monthly/2025-12-16/
LOCATION:Zoom (Virtual)
CATEGORIES:Committee Meeting
ORGANIZER;CN="outACTRAto":MAILTO:lgbtq@actratoronto.com
END:VEVENT
BEGIN:VEVENT
DTSTART;TZID=America/Toronto:20251128T140000
DTEND;TZID=America/Toronto:20251128T170000
DTSTAMP:20260420T152427
CREATED:20251028T150957Z
LAST-MODIFIED:20251118T192853Z
UID:10000101-1764338400-1764349200@actratoronto.com
SUMMARY:Voice Committee Meeting RSVP – Friday\, November 28\, 2025\, at 2 p.m.
DESCRIPTION:The next Voice Committee meeting is taking place on Friday November 28\, 2025\, at 2 p.m. in the ACTRA Toronto office (625 Church Street\, suite 200) in downtown Toronto. \nPlease note this is an in-person meeting. \nRegistration is required. To confirm your attendance\, please complete the form below. Please RSVP by Wednesday\, November 26 at 12 p.m. \nThank you for registering for the Voice Committee Meeting on Friday\, November 28 at 2 p.m. We look forward to seeing you there!
URL:http://actratoronto.com/event/voice-committee-meeting-november-28-2025/
LOCATION:ACTRA Toronto Main Office\, 625 Church Street\, Toronto\, Ontario\, M4Y2G1\, Canada
CATEGORIES:Committee Meeting
ORGANIZER;CN="Voice Committee":MAILTO:voicecommittee@actratoronto.com
END:VEVENT
BEGIN:VEVENT
DTSTART;TZID=America/Toronto:20251119T120000
DTEND;TZID=America/Toronto:20251119T140000
DTSTAMP:20260420T152427
CREATED:20251110T162101Z
LAST-MODIFIED:20251110T162127Z
UID:10000102-1763553600-1763560800@actratoronto.com
SUMMARY:Diversity & Inclusion Committee Meeting (November 19 2025)
DESCRIPTION:We’re excited for the meeting coming up on November 19! Please don’t forget to RSVP\, meeting link will be shared closer to meeting date. \n📅 Date: Wednesday\, November 19\, 2025\n🕒 Time: Noon to 2 p.m. ET\n📍 Location: Virtual (Zoom)
URL:http://actratoronto.com/event/diversity-inclusion-committee-meeting-november-19-2025/
LOCATION:Zoom (Virtual)
CATEGORIES:Committee Meeting
END:VEVENT
BEGIN:VEVENT
DTSTART;TZID=America/Toronto:20251118T140000
DTEND;TZID=America/Toronto:20251118T153000
DTSTAMP:20260420T152427
CREATED:20250618T180854Z
LAST-MODIFIED:20250924T142425Z
UID:10000019-1763474400-1763479800@actratoronto.com
SUMMARY:outACTRAto Meeting
DESCRIPTION:outACTRAto meetings are on the third Tuesday of every month. We hope to see you there!
URL:http://actratoronto.com/event/outactrato-meeting-monthly/2025-11-18/
LOCATION:Zoom (Virtual)
CATEGORIES:Committee Meeting
ORGANIZER;CN="outACTRAto":MAILTO:lgbtq@actratoronto.com
END:VEVENT
BEGIN:VEVENT
DTSTART;TZID=America/Toronto:20251104T180000
DTEND;TZID=America/Toronto:20251104T193000
DTSTAMP:20260420T152427
CREATED:20251027T145318Z
LAST-MODIFIED:20251104T172238Z
UID:10000100-1762279200-1762284600@actratoronto.com
SUMMARY:Accent Discrimination Sub-Committee Meeting (November 4)
DESCRIPTION:Date: Tuesday\, November 4\, 2025\nTime: 6:00 – 7:30 p.m. ET \nLocation: Online via Zoom (the link will be provided ahead of the meeting) \nWe are excited to welcome a special guest\, Jesse Griffiths of Jesse Griffiths Casting\, who will be joining us to share his insights and answer your questions regarding performers who face discrimination in the casting process due to their accent. \nTo ensure that your concerns and curiosities are addressed\, we have prepared a short questionnaire for you to submit any questions you would like Jesse to consider in advance: \nPlease click here to access the questionnaire: ADSC Contact Information – Google Forms \nWe encourage all members to complete the form prior to the meeting so we can make the most of our time with Jesse. Due to the possible large volume of questions submitted in advance\, we will not have the time for live conversations. \nYour participation is vital as we continue our efforts to create more inclusive and equitable opportunities for all performers.
URL:http://actratoronto.com/event/accent-discrimination-sub-committee-meeting-november-4/
LOCATION:Zoom (Virtual)
CATEGORIES:Committee Meeting
END:VEVENT
BEGIN:VEVENT
DTSTART;TZID=America/Toronto:20251021T140000
DTEND;TZID=America/Toronto:20251021T153000
DTSTAMP:20260420T152427
CREATED:20250618T180854Z
LAST-MODIFIED:20250924T142425Z
UID:10000018-1761055200-1761060600@actratoronto.com
SUMMARY:outACTRAto Meeting
DESCRIPTION:outACTRAto meetings are on the third Tuesday of every month. We hope to see you there!
URL:http://actratoronto.com/event/outactrato-meeting-monthly/2025-10-21/
LOCATION:Zoom (Virtual)
CATEGORIES:Committee Meeting
ORGANIZER;CN="outACTRAto":MAILTO:lgbtq@actratoronto.com
END:VEVENT
BEGIN:VEVENT
DTSTART;TZID=America/Toronto:20251016T110000
DTEND;TZID=America/Toronto:20251016T123000
DTSTAMP:20260420T152427
CREATED:20251001T152228Z
LAST-MODIFIED:20251001T152228Z
UID:10000093-1760612400-1760617800@actratoronto.com
SUMMARY:Apprentice Caucus Meeting
DESCRIPTION:Hybrid Meeting. Zoom link available! Please email membership@actratoronto.com \nJoin us after at the Bishop and Belcher for a social.
URL:http://actratoronto.com/event/apprentice-caucus-meeting-101625/
LOCATION:Hybrid\, 625 Church Street\, Suite 200\, Toronto\, Ontario\, M4Y2G1\, Canada
CATEGORIES:Committee Meeting
END:VEVENT
BEGIN:VEVENT
DTSTART;TZID=America/Toronto:20250916T140000
DTEND;TZID=America/Toronto:20250916T153000
DTSTAMP:20260420T152427
CREATED:20250618T180854Z
LAST-MODIFIED:20250924T142425Z
UID:10000017-1758031200-1758036600@actratoronto.com
SUMMARY:outACTRAto Meeting
DESCRIPTION:outACTRAto meetings are on the third Tuesday of every month. We hope to see you there!
URL:http://actratoronto.com/event/outactrato-meeting-monthly/2025-09-16/
LOCATION:Zoom (Virtual)
CATEGORIES:Committee Meeting
ORGANIZER;CN="outACTRAto":MAILTO:lgbtq@actratoronto.com
END:VEVENT
BEGIN:VEVENT
DTSTART;TZID=America/Toronto:20250819T140000
DTEND;TZID=America/Toronto:20250819T153000
DTSTAMP:20260420T152427
CREATED:20250618T180854Z
LAST-MODIFIED:20250924T142425Z
UID:10000016-1755612000-1755617400@actratoronto.com
SUMMARY:outACTRAto Meeting
DESCRIPTION:outACTRAto meetings are on the third Tuesday of every month. We hope to see you there!
URL:http://actratoronto.com/event/outactrato-meeting-monthly/2025-08-19/
LOCATION:Zoom (Virtual)
CATEGORIES:Committee Meeting
ORGANIZER;CN="outACTRAto":MAILTO:lgbtq@actratoronto.com
END:VEVENT
BEGIN:VEVENT
DTSTART;TZID=America/Toronto:20250617T140000
DTEND;TZID=America/Toronto:20250617T153000
DTSTAMP:20260420T152427
CREATED:20250618T180854Z
LAST-MODIFIED:20250924T142425Z
UID:10000015-1750168800-1750174200@actratoronto.com
SUMMARY:outACTRAto Meeting
DESCRIPTION:outACTRAto meetings are on the third Tuesday of every month. We hope to see you there!
URL:http://actratoronto.com/event/outactrato-meeting-monthly/2025-06-17/
LOCATION:Zoom (Virtual)
CATEGORIES:Committee Meeting
ORGANIZER;CN="outACTRAto":MAILTO:lgbtq@actratoronto.com
END:VEVENT
BEGIN:VEVENT
DTSTART;TZID=America/Toronto:20250320T130000
DTEND;TZID=America/Toronto:20250320T150000
DTSTAMP:20260420T152427
CREATED:20250313T200913Z
LAST-MODIFIED:20250313T201536Z
UID:10000002-1742475600-1742482800@actratoronto.com
SUMMARY:YEAA Committee Meeting
DESCRIPTION:Young Emerging Actors\, it’s time to assemble! \nYEAA is hosting our first in-person meeting of the year & you’re invited! \nThis is your chance to: \n\n Get the latest updates on YEAA initiatives\nShare your ideas & help shape upcoming events\nConnect with fellow emerging artists & industry peers\nEnjoy snacks and prizes! (Because who doesn’t love free goodies?\n\nIf you’re an emerging artist looking to make major moves this year\, you don’t want to miss this!
URL:http://actratoronto.com/event/yeaa-committee-meeting/
LOCATION:ACTRA Toronto Main Office\, 625 Church Street\, Toronto\, Ontario\, M4Y2G1\, Canada
CATEGORIES:Committee Meeting
ATTACH;FMTTYPE=image/png:http://actratoronto.com/wp-content/uploads/2023/08/YEAA-BANNER_080223.png
ORGANIZER;CN="YEAA":MAILTO:yeaa@actratoronto.com
END:VEVENT
END:VCALENDAR