BEGIN:VCALENDAR
VERSION:2.0
PRODID:-//ACTRA Toronto - ECPv6.15.17//NONSGML v1.0//EN
CALSCALE:GREGORIAN
METHOD:PUBLISH
X-ORIGINAL-URL:http://actratoronto.com
X-WR-CALDESC:Events for ACTRA Toronto
REFRESH-INTERVAL;VALUE=DURATION:PT1H
X-Robots-Tag:noindex
X-PUBLISHED-TTL:PT1H
BEGIN:VTIMEZONE
TZID:America/Toronto
BEGIN:DAYLIGHT
TZOFFSETFROM:-0500
TZOFFSETTO:-0400
TZNAME:EDT
DTSTART:20240310T070000
END:DAYLIGHT
BEGIN:STANDARD
TZOFFSETFROM:-0400
TZOFFSETTO:-0500
TZNAME:EST
DTSTART:20241103T060000
END:STANDARD
BEGIN:DAYLIGHT
TZOFFSETFROM:-0500
TZOFFSETTO:-0400
TZNAME:EDT
DTSTART:20250309T070000
END:DAYLIGHT
BEGIN:STANDARD
TZOFFSETFROM:-0400
TZOFFSETTO:-0500
TZNAME:EST
DTSTART:20251102T060000
END:STANDARD
BEGIN:DAYLIGHT
TZOFFSETFROM:-0500
TZOFFSETTO:-0400
TZNAME:EDT
DTSTART:20260308T070000
END:DAYLIGHT
BEGIN:STANDARD
TZOFFSETFROM:-0400
TZOFFSETTO:-0500
TZNAME:EST
DTSTART:20261101T060000
END:STANDARD
END:VTIMEZONE
BEGIN:VEVENT
DTSTART;TZID=America/Toronto:20251118T140000
DTEND;TZID=America/Toronto:20251118T153000
DTSTAMP:20260425T165241
CREATED:20250618T180854Z
LAST-MODIFIED:20250924T142425Z
UID:10000019-1763474400-1763479800@actratoronto.com
SUMMARY:outACTRAto Meeting
DESCRIPTION:outACTRAto meetings are on the third Tuesday of every month. We hope to see you there!
URL:http://actratoronto.com/event/outactrato-meeting-monthly/2025-11-18/
LOCATION:Zoom (Virtual)
CATEGORIES:Committee Meeting
ORGANIZER;CN="outACTRAto":MAILTO:lgbtq@actratoronto.com
END:VEVENT
BEGIN:VEVENT
DTSTART;TZID=America/Toronto:20251119T120000
DTEND;TZID=America/Toronto:20251119T140000
DTSTAMP:20260425T165241
CREATED:20251110T162101Z
LAST-MODIFIED:20251110T162127Z
UID:10000102-1763553600-1763560800@actratoronto.com
SUMMARY:Diversity & Inclusion Committee Meeting (November 19 2025)
DESCRIPTION:We’re excited for the meeting coming up on November 19! Please don’t forget to RSVP\, meeting link will be shared closer to meeting date. \n📅 Date: Wednesday\, November 19\, 2025\n🕒 Time: Noon to 2 p.m. ET\n📍 Location: Virtual (Zoom)
URL:http://actratoronto.com/event/diversity-inclusion-committee-meeting-november-19-2025/
LOCATION:Zoom (Virtual)
CATEGORIES:Committee Meeting
END:VEVENT
END:VCALENDAR