BEGIN:VCALENDAR
VERSION:2.0
PRODID:-//ACTRA Toronto - ECPv6.15.17//NONSGML v1.0//EN
CALSCALE:GREGORIAN
METHOD:PUBLISH
X-WR-CALNAME:ACTRA Toronto
X-ORIGINAL-URL:http://actratoronto.com
X-WR-CALDESC:Events for ACTRA Toronto
REFRESH-INTERVAL;VALUE=DURATION:PT1H
X-Robots-Tag:noindex
X-PUBLISHED-TTL:PT1H
BEGIN:VTIMEZONE
TZID:America/Toronto
BEGIN:DAYLIGHT
TZOFFSETFROM:-0500
TZOFFSETTO:-0400
TZNAME:EDT
DTSTART:20250309T070000
END:DAYLIGHT
BEGIN:STANDARD
TZOFFSETFROM:-0400
TZOFFSETTO:-0500
TZNAME:EST
DTSTART:20251102T060000
END:STANDARD
BEGIN:DAYLIGHT
TZOFFSETFROM:-0500
TZOFFSETTO:-0400
TZNAME:EDT
DTSTART:20260308T070000
END:DAYLIGHT
BEGIN:STANDARD
TZOFFSETFROM:-0400
TZOFFSETTO:-0500
TZNAME:EST
DTSTART:20261101T060000
END:STANDARD
BEGIN:DAYLIGHT
TZOFFSETFROM:-0500
TZOFFSETTO:-0400
TZNAME:EDT
DTSTART:20270314T070000
END:DAYLIGHT
BEGIN:STANDARD
TZOFFSETFROM:-0400
TZOFFSETTO:-0500
TZNAME:EST
DTSTART:20271107T060000
END:STANDARD
END:VTIMEZONE
BEGIN:VEVENT
DTSTART;TZID=America/Toronto:20260423T130000
DTEND;TZID=America/Toronto:20260423T143000
DTSTAMP:20260425T121604
CREATED:20260326T193252Z
LAST-MODIFIED:20260421T162446Z
UID:10000122-1776949200-1776954600@actratoronto.com
SUMMARY:Video Game Voice Performance Workshop
DESCRIPTION:The Video Game Working Group is excited to invite members to an online workshop with voice director Lindsey Gardner on April 23rd from 1-2:30 pm. \nWhether you’re curious about breaking into video game performance\, looking to sharpen your skills\, or just want to learn more about the craft\, this will be a fun and practical session. We encourage all interested members to apply – no matter your experience level or home recording setup.  \nFive participants will be selected to receive live coaching\, while any ACTRA Toronto member in good standing can attend as observers to watch the work happen in real time.  \nObservers\, please be advised that this workshop contains content depicting scenes of war and simulated violence. Additional content warning: this workshop also includes mature language and swearing. \nRegister here to observe \n  \n 
URL:http://actratoronto.com/event/video-game-workshop/
LOCATION:Zoom (Virtual)
CATEGORIES:Workshop
END:VEVENT
BEGIN:VEVENT
DTSTART;TZID=America/Toronto:20260430T150000
DTEND;TZID=America/Toronto:20260430T170000
DTSTAMP:20260425T121604
CREATED:20260424T165253Z
LAST-MODIFIED:20260424T170143Z
UID:10000125-1777561200-1777568400@actratoronto.com
SUMMARY:Diversity & Inclusion Committee Meeting (April 30)
DESCRIPTION:The Diversity & Inclusion Committee is excited for its next meeting on April 30\, 2026! We are looking forward to seeing all your beautiful faces! \n📅 Date: Thursday\, April 30\, 2026\n🕒 Time: 3:00–5:00 PM\n📍 Location: Virtual (Zoom) \nhttps://us06web.zoom.us/meeting/register/BE-KlzgSThuxoHccwdZ-YQ#/registration \n 
URL:http://actratoronto.com/event/diversity-inclusion-committee-meeting-april-30/
LOCATION:Zoom (Virtual)
CATEGORIES:Committee Meeting
END:VEVENT
BEGIN:VEVENT
DTSTART;TZID=America/Toronto:20260505T100000
DTEND;TZID=America/Toronto:20260505T160000
DTSTAMP:20260425T121604
CREATED:20260423T174841Z
LAST-MODIFIED:20260423T174841Z
UID:10000124-1777975200-1777996800@actratoronto.com
SUMMARY:ACTRA Toronto Council Meeting (May 5)
DESCRIPTION:ACTRA Toronto members are invited to attend the upcoming ACTRA Toronto Council meeting on Tuesday\, May 5\, 2026\, from 10 a.m. to 4 p.m. ET. Registration is required. \n\n\n\nBefore registering\, please note: \n\n\n\n\nYou must be a Full member\, Apprentice or AABP in good standing to be eligible to observe the meeting.\n\n\n\nRegistration does not guarantee attendance. Limited online spots are available.\n\n\n\nPreference will be given to ACTRA Toronto Committee Chairs and active volunteers.\n\n\n\nRegistration deadline is Monday\, May 4\, 2026\, at 12 p.m. ET.\n\n\n\nMembers selected to attend as observers will be notified by email by 4 p.m. ET on Monday\, May 4\, 2026.\n\n\n\n\nNOTE: Observers attend ACTRA Toronto Council meetings at the invitation of Council and agree to be bound by the instructions of the Chair.
URL:http://actratoronto.com/event/actra-toronto-council-meeting-may5/
LOCATION:Hybrid\, 625 Church Street\, Suite 200\, Toronto\, Ontario\, M4Y2G1\, Canada
CATEGORIES:Council Meeting
END:VEVENT
END:VCALENDAR